BEGIN:VCALENDAR
VERSION:2.0
PRODID:www.tlu.ee
X-PUBLISHED-TTL:P1W
BEGIN:VEVENT
UID:69e76606ada93
DTSTART:20190925T143000Z
SEQUENCE:0
TRANSP:OPAQUE
DTEND:20190925T163000Z
SUMMARY:TÖFi Tallinna Ülikooli teadusnädala palgalõheteemaline arutelu 
 Foorumteatri etendusega
CLASS:PUBLIC
DTSTAMP:20260421T145654Z
END:VEVENT
END:VCALENDAR