BEGIN:VCALENDAR
VERSION:2.0
PRODID:www.tlu.ee
X-PUBLISHED-TTL:P1W
BEGIN:VEVENT
UID:69e75615e0a3d
DTSTART:20191225T070000Z
SEQUENCE:0
TRANSP:OPAQUE
DTEND:20191026T094500Z
SUMMARY:Rahvusvaheline konverents \"Muusikakasvatus eile\, täna\, homme\"
CLASS:PUBLIC
DTSTAMP:20260421T134853Z
END:VEVENT
END:VCALENDAR