BEGIN:VCALENDAR
VERSION:2.0
PRODID:www.tlu.ee
X-PUBLISHED-TTL:P1W
BEGIN:VEVENT
UID:69e7514fa1ccf
DTSTART:20191011T060000Z
SEQUENCE:0
TRANSP:OPAQUE
DTEND:20191011T070000Z
SUMMARY:Ökoloogia keskuse seminar: Joonas  Plaan \"Kliimamuutustest sotsia
 alteadlase pilgu läbi\"
CLASS:PUBLIC
DTSTAMP:20260421T132831Z
END:VEVENT
END:VCALENDAR