BEGIN:VCALENDAR
VERSION:2.0
PRODID:www.tlu.ee
X-PUBLISHED-TTL:P1W
BEGIN:VEVENT
UID:69e4de70f2e19
DTSTART:20191206T170000Z
SEQUENCE:0
TRANSP:OPAQUE
DTEND:20191206T190000Z
SUMMARY:Avalik eksam: IKUMUMU Performance etüüdid #2
CLASS:PUBLIC
DTSTAMP:20260419T165353Z
END:VEVENT
END:VCALENDAR