BEGIN:VCALENDAR
VERSION:2.0
PRODID:www.tlu.ee
X-PUBLISHED-TTL:P1W
BEGIN:VEVENT
UID:69e7563ecde4b
DTSTART:20200320T100000Z
SEQUENCE:0
TRANSP:OPAQUE
DTEND:20200320T130000Z
SUMMARY:Otseülekanne veebis! Loodus- ja terviseteaduste instituudi doktora
 ndi Piret Vachti doktoritöö kaitsmine
CLASS:PUBLIC
DTSTAMP:20260421T134934Z
END:VEVENT
END:VCALENDAR