BEGIN:VCALENDAR
VERSION:2.0
PRODID:www.tlu.ee
X-PUBLISHED-TTL:P1W
BEGIN:VEVENT
UID:69e75165ba811
DTSTART:20201016T070000Z
SEQUENCE:0
TRANSP:OPAQUE
DTEND:20201016T113000Z
SUMMARY:Professor Jaan-Mati Punningu 80. sünniaastapäeva konverents
CLASS:PUBLIC
DTSTAMP:20260421T132854Z
END:VEVENT
END:VCALENDAR