BEGIN:VCALENDAR
VERSION:2.0
PRODID:www.tlu.ee
X-PUBLISHED-TTL:P1W
BEGIN:VEVENT
UID:69ea00ef2a158
DTSTART:20210419T120000Z
SEQUENCE:0
TRANSP:OPAQUE
DTEND:20210430T150000Z
SUMMARY:Magistriõppe infotunnid 2021
CLASS:PUBLIC
DTSTAMP:20260423T142223Z
END:VEVENT
END:VCALENDAR