BEGIN:VCALENDAR
VERSION:2.0
PRODID:www.tlu.ee
X-PUBLISHED-TTL:P1W
BEGIN:VEVENT
UID:69e50f9ed6ef3
DTSTART:20211007T070000Z
SEQUENCE:0
TRANSP:OPAQUE
DTEND:20211008T130000Z
SUMMARY:II rahvusvaheline mitmeteaduslik konverents “Rahvuskeeled teaduse
 s ja kõrghariduses”
CLASS:PUBLIC
DTSTAMP:20260419T202342Z
END:VEVENT
END:VCALENDAR