BEGIN:VCALENDAR
VERSION:2.0
PRODID:www.tlu.ee
X-PUBLISHED-TTL:P1W
BEGIN:VEVENT
UID:69e75136ce516
DTSTART:20200921T160000Z
SEQUENCE:0
TRANSP:OPAQUE
DTEND:20200924T210000Z
SUMMARY: Tallinna Ülikooli virtuaalne Teadusnädal 21.09 – 25.09
CLASS:PUBLIC
DTSTAMP:20260421T132806Z
END:VEVENT
END:VCALENDAR