BEGIN:VCALENDAR
VERSION:2.0
PRODID:www.tlu.ee
X-PUBLISHED-TTL:P1W
BEGIN:VEVENT
UID:69ea00eed3871
DTSTART:20210702T070000Z
SEQUENCE:0
TRANSP:OPAQUE
DTEND:20210704T150000Z
SUMMARY:Üliõpilaste XXI Suvemängud 2021
CLASS:PUBLIC
DTSTAMP:20260423T142222Z
END:VEVENT
END:VCALENDAR