BEGIN:VCALENDAR
VERSION:2.0
PRODID:www.tlu.ee
X-PUBLISHED-TTL:P1W
BEGIN:VEVENT
UID:69e8fd4d795a0
DTSTART:20201209T080000Z
SEQUENCE:0
TRANSP:OPAQUE
DTEND:20201209T153000Z
SUMMARY:Igal tuulel oma tuju – tormid ja tormisus. Ekstreemne kliima ja s
 elle ühiskondlik mõju Eesti näitel
CLASS:PUBLIC
DTSTAMP:20260422T195437Z
END:VEVENT
END:VCALENDAR