BEGIN:VCALENDAR
VERSION:2.0
PRODID:www.tlu.ee
X-PUBLISHED-TTL:P1W
BEGIN:VEVENT
UID:69eae1d572596
DTSTART:20210225T080000Z
SEQUENCE:0
TRANSP:OPAQUE
DTEND:20210225T090000Z
SUMMARY:EXU Akadeemia veebiseminar \"Ettevõtte digiküpsuse kaardistamine\
 "
CLASS:PUBLIC
DTSTAMP:20260424T062157Z
END:VEVENT
END:VCALENDAR