BEGIN:VCALENDAR
VERSION:2.0
PRODID:www.tlu.ee
X-PUBLISHED-TTL:P1W
BEGIN:VEVENT
UID:69eae1d5314c8
DTSTART:20210226T083000Z
SEQUENCE:0
TRANSP:OPAQUE
DTEND:20210226T160000Z
SUMMARY:Rahvusvaheliste suhete talvekool
CLASS:PUBLIC
DTSTAMP:20260424T062157Z
END:VEVENT
END:VCALENDAR