BEGIN:VCALENDAR
VERSION:2.0
PRODID:www.tlu.ee
X-PUBLISHED-TTL:P1W
BEGIN:VEVENT
UID:69eae0ccae4c3
DTSTART:20210303T070000Z
SEQUENCE:0
TRANSP:OPAQUE
DTEND:20210303T080000Z
SUMMARY:KNT teadusseminar „Geneetika võimalused sotsiaalteadustes“
CLASS:PUBLIC
DTSTAMP:20260424T061732Z
END:VEVENT
END:VCALENDAR