BEGIN:VCALENDAR
VERSION:2.0
PRODID:www.tlu.ee
X-PUBLISHED-TTL:P1W
BEGIN:VEVENT
UID:69eae070e4a6c
DTSTART:20210223T140000Z
SEQUENCE:0
TRANSP:OPAQUE
DTEND:20210223T150000Z
SUMMARY:Tallinna Ülikooli saatesari “Ekspert eetris”: Ilmar Tomusk
CLASS:PUBLIC
DTSTAMP:20260424T061600Z
END:VEVENT
END:VCALENDAR