BEGIN:VCALENDAR
VERSION:2.0
PRODID:www.tlu.ee
X-PUBLISHED-TTL:P1W
BEGIN:VEVENT
UID:69eade9027bb1
DTSTART:20210224T100000Z
SEQUENCE:0
TRANSP:OPAQUE
DTEND:20210224T110000Z
SUMMARY:Tallinna Ülikooli EV103 erisaade
CLASS:PUBLIC
DTSTAMP:20260424T060800Z
END:VEVENT
END:VCALENDAR