BEGIN:VCALENDAR
VERSION:2.0
PRODID:www.tlu.ee
X-PUBLISHED-TTL:P1W
BEGIN:VEVENT
UID:69eae1558c1c3
DTSTART:20210225T141500Z
SEQUENCE:0
TRANSP:OPAQUE
DTEND:20210225T160000Z
SUMMARY:Keskaja keskuse seminar \"Sakraalfragmentaarium. Uusi arheoloogilis
 i andmeid Lõuna-Eesti keskaegsest maaruumist 2017-2021\"
CLASS:PUBLIC
DTSTAMP:20260424T061949Z
END:VEVENT
END:VCALENDAR