BEGIN:VCALENDAR
VERSION:2.0
PRODID:www.tlu.ee
X-PUBLISHED-TTL:P1W
BEGIN:VEVENT
UID:69e7514f4398d
DTSTART:20210406T110000Z
SEQUENCE:0
TRANSP:OPAQUE
DTEND:20210406T120000Z
SUMMARY:Venia legendi: Felicia Akinyemi
CLASS:PUBLIC
DTSTAMP:20260421T132831Z
END:VEVENT
END:VCALENDAR