BEGIN:VCALENDAR
VERSION:2.0
PRODID:www.tlu.ee
X-PUBLISHED-TTL:P1W
BEGIN:VEVENT
UID:69e751500c81a
DTSTART:20210408T070000Z
SEQUENCE:0
TRANSP:OPAQUE
DTEND:20210408T080000Z
SUMMARY:Venia legendi: Mukesh Singh Boori
CLASS:PUBLIC
DTSTAMP:20260421T132832Z
END:VEVENT
END:VCALENDAR