BEGIN:VCALENDAR
VERSION:2.0
PRODID:www.tlu.ee
X-PUBLISHED-TTL:P1W
BEGIN:VEVENT
UID:69e9ea45954d3
DTSTART:20210503T113000Z
SEQUENCE:0
TRANSP:OPAQUE
DTEND:20210503T143000Z
SUMMARY:Humanitaarteaduste instituudi doktorandi Helin Kase doktoritöö ka
 itsmine
CLASS:PUBLIC
DTSTAMP:20260423T124541Z
END:VEVENT
END:VCALENDAR