BEGIN:VCALENDAR
VERSION:2.0
PRODID:www.tlu.ee
X-PUBLISHED-TTL:P1W
BEGIN:VEVENT
UID:69ea0130b17de
DTSTART:20210512T060000Z
SEQUENCE:0
TRANSP:OPAQUE
DTEND:20210512T070000Z
SUMMARY:KNT teadusseminar „Tõsimänguline lahendus ülekuulamisoskuste t
 reenimisel\"
CLASS:PUBLIC
DTSTAMP:20260423T142328Z
END:VEVENT
END:VCALENDAR