BEGIN:VCALENDAR
VERSION:2.0
PRODID:www.tlu.ee
X-PUBLISHED-TTL:P1W
BEGIN:VEVENT
UID:69ea0128046af
DTSTART:20210517T090000Z
SEQUENCE:0
TRANSP:OPAQUE
DTEND:20210517T103000Z
SUMMARY:Professor Tõnu Viigi inaugureerimine
CLASS:PUBLIC
DTSTAMP:20260423T142320Z
END:VEVENT
END:VCALENDAR