BEGIN:VCALENDAR
VERSION:2.0
PRODID:www.tlu.ee
X-PUBLISHED-TTL:P1W
BEGIN:VEVENT
UID:69ea0044049a5
DTSTART:20210531T123000Z
SEQUENCE:0
TRANSP:OPAQUE
DTEND:20210531T153000Z
SUMMARY:Loodus- ja terviseteaduste instituudi doktorandi Anna-Helena Purre 
 doktoritöö kaitsmine
CLASS:PUBLIC
DTSTAMP:20260423T141932Z
END:VEVENT
END:VCALENDAR