BEGIN:VCALENDAR
VERSION:2.0
PRODID:www.tlu.ee
X-PUBLISHED-TTL:P1W
BEGIN:VEVENT
UID:69ea00d490112
DTSTART:20210505T130000Z
SEQUENCE:0
TRANSP:OPAQUE
DTEND:20210505T140000Z
SUMMARY:Tallinna Ülikooli saatesari “Ekspert eetris”: Mati Heidmets
CLASS:PUBLIC
DTSTAMP:20260423T142156Z
END:VEVENT
END:VCALENDAR