BEGIN:VCALENDAR
VERSION:2.0
PRODID:www.tlu.ee
X-PUBLISHED-TTL:P1W
BEGIN:VEVENT
UID:69ea01283e3f3
DTSTART:20210514T090000Z
SEQUENCE:0
TRANSP:OPAQUE
DTEND:20210514T100000Z
SUMMARY:Infoseminar: SEL pädevuse arendamise programmi \"Meie Maailm\" rak
 endamise koolitus
CLASS:PUBLIC
DTSTAMP:20260423T142320Z
END:VEVENT
END:VCALENDAR