BEGIN:VCALENDAR
VERSION:2.0
PRODID:www.tlu.ee
X-PUBLISHED-TTL:P1W
BEGIN:VEVENT
UID:69e7563e5b7b5
DTSTART:20210501T070000Z
SEQUENCE:0
TRANSP:OPAQUE
DTEND:20211001T150000Z
SUMMARY:Näitus „Kuhu lähed\, Virumaa? Fosforiit – sõber või vaenlan
 e?”
CLASS:PUBLIC
DTSTAMP:20260421T134934Z
END:VEVENT
END:VCALENDAR