BEGIN:VCALENDAR
VERSION:2.0
PRODID:www.tlu.ee
X-PUBLISHED-TTL:P1W
BEGIN:VEVENT
UID:69e78a722d148
DTSTART:20210917T070000Z
SEQUENCE:0
TRANSP:OPAQUE
DTEND:20210917T130000Z
SUMMARY:Professor Jaan Valsineri juubelinädal
CLASS:PUBLIC
DTSTAMP:20260421T173218Z
END:VEVENT
END:VCALENDAR