BEGIN:VCALENDAR
VERSION:2.0
PRODID:www.tlu.ee
X-PUBLISHED-TTL:P1W
BEGIN:VEVENT
UID:69e739ee5288d
DTSTART:20210920T050000Z
SEQUENCE:0
TRANSP:OPAQUE
DTEND:20210924T140000Z
SUMMARY: Tallinna Ülikooli Teadusnädal 20.09 – 24.09
CLASS:PUBLIC
DTSTAMP:20260421T114846Z
END:VEVENT
END:VCALENDAR