BEGIN:VCALENDAR
VERSION:2.0
PRODID:www.tlu.ee
X-PUBLISHED-TTL:P1W
BEGIN:VEVENT
UID:69e753271221a
DTSTART:20210922T113000Z
SEQUENCE:0
TRANSP:OPAQUE
DTEND:20210922T130000Z
SUMMARY:Tallinna Ülikooli Teadusnädala seminar \"Teaduseetika - väljakut
 sed ja head praktikad\"
CLASS:PUBLIC
DTSTAMP:20260421T133623Z
END:VEVENT
END:VCALENDAR