BEGIN:VCALENDAR
VERSION:2.0
PRODID:www.tlu.ee
X-PUBLISHED-TTL:P1W
BEGIN:VEVENT
UID:69e755e683aaf
DTSTART:20210920T120000Z
SEQUENCE:0
TRANSP:OPAQUE
DTEND:20210920T133000Z
SUMMARY:Tallinna Ülikooli Teadusnädala töötuba \"Keemia ja füüsika h
 õbepeegli laternas\" (grupp on täitunud)
CLASS:PUBLIC
DTSTAMP:20260421T134806Z
END:VEVENT
END:VCALENDAR