BEGIN:VCALENDAR
VERSION:2.0
PRODID:www.tlu.ee
X-PUBLISHED-TTL:P1W
BEGIN:VEVENT
UID:69e7514ec8d04
DTSTART:20210922T120000Z
SEQUENCE:0
TRANSP:OPAQUE
DTEND:20210922T124500Z
SUMMARY:Palgakalkulaator: alampalga seos soolise palgalõhega
CLASS:PUBLIC
DTSTAMP:20260421T132830Z
END:VEVENT
END:VCALENDAR