BEGIN:VCALENDAR
VERSION:2.0
PRODID:www.tlu.ee
X-PUBLISHED-TTL:P1W
BEGIN:VEVENT
UID:69e7514009348
DTSTART:20211116T100000Z
SEQUENCE:0
TRANSP:OPAQUE
DTEND:20211116T153000Z
SUMMARY:ÜTI foorum: EESTI RIIKLUS\, KOHALIK OMAVALITSUS JA OMAVALITSUSPÄE
 V – HOMNE SÜNNIB AJALOOST
CLASS:PUBLIC
DTSTAMP:20260421T132816Z
END:VEVENT
END:VCALENDAR