BEGIN:VCALENDAR
VERSION:2.0
PRODID:www.tlu.ee
X-PUBLISHED-TTL:P1W
BEGIN:VEVENT
UID:69e75eb7513a3
DTSTART:20211222T110000Z
SEQUENCE:0
TRANSP:OPAQUE
DTEND:20211222T150000Z
SUMMARY:Kollokvium \"Ülikool ja kohalik omavalitsus – ühised inimvara a
 rendajad\"
CLASS:PUBLIC
DTSTAMP:20260421T142543Z
END:VEVENT
END:VCALENDAR