BEGIN:VCALENDAR
VERSION:2.0
PRODID:www.tlu.ee
X-PUBLISHED-TTL:P1W
BEGIN:VEVENT
UID:69e7b8e37ff14
DTSTART:20220323T140000Z
SEQUENCE:0
TRANSP:OPAQUE
DTEND:20220323T143000Z
SUMMARY:\"Ekspert eetris\": kolonel Peeter Tali
CLASS:PUBLIC
DTSTAMP:20260421T205027Z
END:VEVENT
END:VCALENDAR