BEGIN:VCALENDAR
VERSION:2.0
PRODID:www.tlu.ee
X-PUBLISHED-TTL:P1W
BEGIN:VEVENT
UID:69e833aa706c1
DTSTART:20230614T070000Z
SEQUENCE:0
TRANSP:OPAQUE
DTEND:20230614T150000Z
SUMMARY:TLÜ haridusteaduste instituudi (HTI) lõpuaktused 2023
CLASS:PUBLIC
DTSTAMP:20260422T053418Z
END:VEVENT
END:VCALENDAR