BEGIN:VCALENDAR
VERSION:2.0
PRODID:www.tlu.ee
X-PUBLISHED-TTL:P1W
BEGIN:VEVENT
UID:69e75165a6bbe
DTSTART:20220928T080000Z
SEQUENCE:0
TRANSP:OPAQUE
DTEND:20220928T090000Z
SUMMARY:Tallinna Ülikooli Teadusnädala töötuba \"Appi\, ma leidsin aard
 e\" (grupp on täitunud)
CLASS:PUBLIC
DTSTAMP:20260421T132853Z
END:VEVENT
END:VCALENDAR