BEGIN:VCALENDAR
VERSION:2.0
PRODID:www.tlu.ee
X-PUBLISHED-TTL:P1W
BEGIN:VEVENT
UID:69e7514ce6a49
DTSTART:20221025T153000Z
SEQUENCE:0
TRANSP:OPAQUE
DTEND:20221025T170000Z
SUMMARY:Kontsert-loeng „Eluoskused muusikast. Annete ja üldpäedevuste a
 rendamisest mitteformaalõppes“
CLASS:PUBLIC
DTSTAMP:20260421T132828Z
END:VEVENT
END:VCALENDAR