BEGIN:VCALENDAR
VERSION:2.0
PRODID:www.tlu.ee
X-PUBLISHED-TTL:P1W
BEGIN:VEVENT
UID:69e849c0a10f3
DTSTART:20221205T100000Z
SEQUENCE:0
TRANSP:OPAQUE
DTEND:20221205T143000Z
SUMMARY:Kollokvium  “Ülikoolide\, riigi ja kohaliku omavalitsuse koostö
 ö arengust - ideekorjest Eesti VIII Omavalitsuspäeva ja Harjumaa III Oma
 valitsuspäeva kontekstis”
CLASS:PUBLIC
DTSTAMP:20260422T070832Z
END:VEVENT
END:VCALENDAR