BEGIN:VCALENDAR
VERSION:2.0
PRODID:www.tlu.ee
X-PUBLISHED-TTL:P1W
BEGIN:VEVENT
UID:69e833a9e2bd0
DTSTART:20230111T090000Z
SEQUENCE:0
TRANSP:OPAQUE
DTEND:20230112T120000Z
SUMMARY:ÜTI doktoriõppe talvekool Laulasmaal 
CLASS:PUBLIC
DTSTAMP:20260422T053417Z
END:VEVENT
END:VCALENDAR