BEGIN:VCALENDAR
VERSION:2.0
PRODID:www.tlu.ee
X-PUBLISHED-TTL:P1W
BEGIN:VEVENT
UID:69e833ac72855
DTSTART:20230117T070000Z
SEQUENCE:0
TRANSP:OPAQUE
DTEND:20230118T150000Z
SUMMARY:IET koolitus: Mikrosimulatsioonimudelite kasutamine sotsiaalmajandu
 slike probleemide uurimisel
CLASS:PUBLIC
DTSTAMP:20260422T053420Z
END:VEVENT
END:VCALENDAR