BEGIN:VCALENDAR
VERSION:2.0
PRODID:www.tlu.ee
X-PUBLISHED-TTL:P1W
BEGIN:VEVENT
UID:69e833b700808
DTSTART:20221220T073000Z
SEQUENCE:0
TRANSP:OPAQUE
DTEND:20221221T150000Z
SUMMARY:EDK talvine teadusseminar 2022
CLASS:PUBLIC
DTSTAMP:20260422T053431Z
END:VEVENT
END:VCALENDAR