BEGIN:VCALENDAR
VERSION:2.0
PRODID:www.tlu.ee
X-PUBLISHED-TTL:P1W
BEGIN:VEVENT
UID:69e833b77be0c
DTSTART:20230109T080000Z
SEQUENCE:0
TRANSP:OPAQUE
DTEND:20230109T090000Z
SUMMARY:Andragoogika eriala tutvustava näituse avamine
CLASS:PUBLIC
DTSTAMP:20260422T053431Z
END:VEVENT
END:VCALENDAR