BEGIN:VCALENDAR
VERSION:2.0
PRODID:www.tlu.ee
X-PUBLISHED-TTL:P1W
BEGIN:VEVENT
UID:69e7514e758de
DTSTART:20230208T140000Z
SEQUENCE:0
TRANSP:OPAQUE
DTEND:20230208T160000Z
SUMMARY:ÜTI teadusseminar \"Populism\, erakonnad ja väljakutsed demokraat
 iale. Vaade Eestile\, Ida-Euroopale ja kaugemale.\"
CLASS:PUBLIC
DTSTAMP:20260421T132830Z
END:VEVENT
END:VCALENDAR