BEGIN:VCALENDAR
VERSION:2.0
PRODID:www.tlu.ee
X-PUBLISHED-TTL:P1W
BEGIN:VEVENT
UID:69e8b2c85ec85
DTSTART:20230228T121500Z
SEQUENCE:0
TRANSP:OPAQUE
DTEND:20230228T134500Z
SUMMARY:Tugiseminar: Töö teadusandmebaasidega. 
CLASS:PUBLIC
DTSTAMP:20260422T143640Z
END:VEVENT
END:VCALENDAR