BEGIN:VCALENDAR
VERSION:2.0
PRODID:www.tlu.ee
X-PUBLISHED-TTL:P1W
BEGIN:VEVENT
UID:69e73a10ad67d
DTSTART:20230411T073000Z
SEQUENCE:0
TRANSP:OPAQUE
DTEND:20230411T090000Z
SUMMARY:Veebiseminar: Baltimaade äri- ja akadeemilise valdkonna toetus vas
 tusena Ukraina kriisile
CLASS:PUBLIC
DTSTAMP:20260421T114920Z
END:VEVENT
END:VCALENDAR