BEGIN:VCALENDAR
VERSION:2.0
PRODID:www.tlu.ee
X-PUBLISHED-TTL:P1W
BEGIN:VEVENT
UID:69e75336ccf59
DTSTART:20230504T120000Z
SEQUENCE:0
TRANSP:OPAQUE
DTEND:20230504T130000Z
SUMMARY:Kommunikatsioonijuhtimise õppekava infotund sisseastujale
CLASS:PUBLIC
DTSTAMP:20260421T133639Z
END:VEVENT
END:VCALENDAR