BEGIN:VCALENDAR
VERSION:2.0
PRODID:www.tlu.ee
X-PUBLISHED-TTL:P1W
BEGIN:VEVENT
UID:69e755f4dbaee
DTSTART:20240227T070000Z
SEQUENCE:0
TRANSP:OPAQUE
DTEND:20240228T140000Z
SUMMARY:Demokraatia tugevdamine hariduse kaudu: kontseptuaalsed ja praktili
 sed perspektiivid
CLASS:PUBLIC
DTSTAMP:20260421T134820Z
END:VEVENT
END:VCALENDAR