BEGIN:VCALENDAR
VERSION:2.0
PRODID:www.tlu.ee
X-PUBLISHED-TTL:P1W
BEGIN:VEVENT
UID:69e739e6d9fdb
DTSTART:20240306T080000Z
SEQUENCE:0
TRANSP:OPAQUE
DTEND:20240306T103000Z
SUMMARY:BUPRaP Roadshow seminarid
CLASS:PUBLIC
DTSTAMP:20260421T114838Z
END:VEVENT
END:VCALENDAR