BEGIN:VCALENDAR
VERSION:2.0
PRODID:www.tlu.ee
X-PUBLISHED-TTL:P1W
BEGIN:VEVENT
UID:69e751505929f
DTSTART:20250415T130000Z
SEQUENCE:0
TRANSP:OPAQUE
DTEND:20250415T140000Z
SUMMARY:Kasvatusteaduste doktoriõppe infotund
CLASS:PUBLIC
DTSTAMP:20260421T132832Z
END:VEVENT
END:VCALENDAR