BEGIN:VCALENDAR
VERSION:2.0
PRODID:www.tlu.ee
X-PUBLISHED-TTL:P1W
BEGIN:VEVENT
UID:69e942f7b548b
DTSTART:20240917T073000Z
SEQUENCE:0
TRANSP:OPAQUE
DTEND:20240917T103000Z
SUMMARY:Haridusteaduste instituudi doktorandi Mikk Granströmi doktoritöö
  kaitsmine
CLASS:PUBLIC
DTSTAMP:20260423T005151Z
END:VEVENT
END:VCALENDAR